BEGIN:VCALENDAR
VERSION:2.0
PRODID:-//The Salt Connection - ECPv6.15.20//NONSGML v1.0//EN
CALSCALE:GREGORIAN
METHOD:PUBLISH
X-WR-CALNAME:The Salt Connection
X-ORIGINAL-URL:https://thesaltconnection.com
X-WR-CALDESC:Events for The Salt Connection
REFRESH-INTERVAL;VALUE=DURATION:PT1H
X-Robots-Tag:noindex
X-PUBLISHED-TTL:PT1H
BEGIN:VTIMEZONE
TZID:America/Chicago
BEGIN:DAYLIGHT
TZOFFSETFROM:-0600
TZOFFSETTO:-0500
TZNAME:CDT
DTSTART:20240310T080000
END:DAYLIGHT
BEGIN:STANDARD
TZOFFSETFROM:-0500
TZOFFSETTO:-0600
TZNAME:CST
DTSTART:20241103T070000
END:STANDARD
BEGIN:DAYLIGHT
TZOFFSETFROM:-0600
TZOFFSETTO:-0500
TZNAME:CDT
DTSTART:20250309T080000
END:DAYLIGHT
BEGIN:STANDARD
TZOFFSETFROM:-0500
TZOFFSETTO:-0600
TZNAME:CST
DTSTART:20251102T070000
END:STANDARD
BEGIN:DAYLIGHT
TZOFFSETFROM:-0600
TZOFFSETTO:-0500
TZNAME:CDT
DTSTART:20260308T080000
END:DAYLIGHT
BEGIN:STANDARD
TZOFFSETFROM:-0500
TZOFFSETTO:-0600
TZNAME:CST
DTSTART:20261101T070000
END:STANDARD
END:VTIMEZONE
BEGIN:VEVENT
DTSTART;TZID=America/Chicago:20250517T140000
DTEND;TZID=America/Chicago:20250517T170000
DTSTAMP:20260422T144216
CREATED:20250308T181521Z
LAST-MODIFIED:20250318T024151Z
UID:1147-1747490400-1747501200@thesaltconnection.com
SUMMARY:2025 Painting with a Sis Event
DESCRIPTION:Make plans to attend The S.A.L.T. Connection’s “Painting with a Sis” event in partnership with Dip & Dab. You’ll enjoy an afternoon of food\, fun and fellowship while creating a personal work of art to take home. \nPaint materials and lunch will be provided for each event participant. Hurry\, Friday\, May 2\, is the last day to get your ticket! \nPLEASE NOTE: You must pay for your ticket to register\, and all tickets are non-refundable.
URL:https://thesaltconnection.com/event/2025-painting-with-a-sis-event/
LOCATION:New Hope Christian Fellowship\, 2810 S Mirick Ave\, Denison\, TX\, 75020\, United States
CATEGORIES:Community Events
ATTACH;FMTTYPE=image/png:https://thesaltconnection.com/wp-content/uploads/2025/03/WordPress-Featured-Image-Painting-with-a-Sis-Event.png
END:VEVENT
END:VCALENDAR